BEGIN:VCALENDAR
VERSION:2.0
PRODID:-//RIGHTHERE//CALENDARIZE IT V3.2//EN
BEGIN:VTIMEZONE
TZID:America/Boise
BEGIN:STANDARD
DTSTART:20251102T080000
TZOFFSETFROM:-0600
TZOFFSETTO:-0700
TZNAME:MST
END:STANDARD
BEGIN:DAYLIGHT
DTSTART:20260308T090000
TZOFFSETFROM:-0700
TZOFFSETTO:-0600
TZNAME:MDT
END:DAYLIGHT
BEGIN:STANDARD
DTSTART:20261101T080000
TZOFFSETFROM:-0600
TZOFFSETTO:-0700
TZNAME:MST
END:STANDARD
END:VTIMEZONE
BEGIN:VEVENT
UID:22718-events@goharlowsmccall.com
DTSTART;TZID=America/Boise:20220715T160000
DTEND;TZID=America/Boise:20220715T000000
DTSTAMP;TZID=America/Boise:20220714T103759
SUMMARY:Adventure Idaho – City Park  ( Riggins) to French Creek\, JoS 700
 2
URL:https://goharlowsmccall.com/events/adventure-idaho-city-park-riggins-to
 -french-creek-jos-7002/
END:VEVENT
END:VCALENDAR