BEGIN:VCALENDAR
VERSION:2.0
PRODID:-//RIGHTHERE//CALENDARIZE IT V3.2//EN
BEGIN:VTIMEZONE
TZID:America/Boise
BEGIN:STANDARD
DTSTART:20251102T080000
TZOFFSETFROM:-0600
TZOFFSETTO:-0700
TZNAME:MST
END:STANDARD
BEGIN:DAYLIGHT
DTSTART:20260308T090000
TZOFFSETFROM:-0700
TZOFFSETTO:-0600
TZNAME:MDT
END:DAYLIGHT
BEGIN:STANDARD
DTSTART:20261101T080000
TZOFFSETFROM:-0600
TZOFFSETTO:-0700
TZNAME:MST
END:STANDARD
END:VTIMEZONE
BEGIN:VEVENT
UID:22847-events@goharlowsmccall.com
DTSTART;TZID=America/Boise:20220801T080000
DTEND;TZID=America/Boise:20220801T000000
DTSTAMP;TZID=America/Boise:20220725T101108
SUMMARY:MOSS – Caldwell Housing Authority/4H Ada County to Moss\, 40pax E
 rB 7004
URL:https://goharlowsmccall.com/events/moss-caldwell-housing-authority-4h-a
 da-county-to-moss-40pax-bus/
END:VEVENT
END:VCALENDAR