BEGIN:VCALENDAR
VERSION:2.0
PRODID:-//RIGHTHERE//CALENDARIZE IT V3.2//EN
BEGIN:VTIMEZONE
TZID:America/Boise
BEGIN:STANDARD
DTSTART:20251102T080000
TZOFFSETFROM:-0600
TZOFFSETTO:-0700
TZNAME:MST
END:STANDARD
BEGIN:DAYLIGHT
DTSTART:20260308T090000
TZOFFSETFROM:-0700
TZOFFSETTO:-0600
TZNAME:MDT
END:DAYLIGHT
BEGIN:STANDARD
DTSTART:20261101T080000
TZOFFSETFROM:-0600
TZOFFSETTO:-0700
TZNAME:MST
END:STANDARD
END:VTIMEZONE
BEGIN:VEVENT
UID:22849-events@goharlowsmccall.com
DTSTART;TZID=America/Boise:20220805T100000
DTEND;TZID=America/Boise:20220805T000000
DTSTAMP;TZID=America/Boise:20220725T101344
SUMMARY:MOSS – Moss to Caldwell Housing Authority/4H Ada County \, 40pax\
 , BrP 6520
URL:https://goharlowsmccall.com/events/moss-moss-to-caldwell-housing-author
 ity-4h-ada-county-40pax-bus/
END:VEVENT
END:VCALENDAR