BEGIN:VCALENDAR
VERSION:2.0
PRODID:-//RIGHTHERE//CALENDARIZE IT V3.2//EN
BEGIN:VTIMEZONE
TZID:America/Boise
BEGIN:STANDARD
DTSTART:20251102T080000
TZOFFSETFROM:-0600
TZOFFSETTO:-0700
TZNAME:MST
END:STANDARD
BEGIN:DAYLIGHT
DTSTART:20260308T090000
TZOFFSETFROM:-0700
TZOFFSETTO:-0600
TZNAME:MDT
END:DAYLIGHT
BEGIN:STANDARD
DTSTART:20261101T080000
TZOFFSETFROM:-0600
TZOFFSETTO:-0700
TZNAME:MST
END:STANDARD
END:VTIMEZONE
BEGIN:VEVENT
UID:22914-events@goharlowsmccall.com
DTSTART;TZID=America/Boise:20220729T120000
DTEND;TZID=America/Boise:20220729T000000
DTSTAMP;TZID=America/Boise:20220728T161238
SUMMARY:Wilderness River Outfitter – Carry Creek to McCall ClS 0008\, the
 n to Boise JeO 7004
URL:https://goharlowsmccall.com/events/wilderness-river-outfitter-carry-cre
 ek-to-mccall-lem-5949-then-to-boise-jeo-7004/
END:VEVENT
END:VCALENDAR