BEGIN:VCALENDAR
VERSION:2.0
PRODID:-//RIGHTHERE//CALENDARIZE IT V3.2//EN
BEGIN:VTIMEZONE
TZID:America/Boise
BEGIN:STANDARD
DTSTART:20251102T080000
TZOFFSETFROM:-0600
TZOFFSETTO:-0700
TZNAME:MST
END:STANDARD
BEGIN:DAYLIGHT
DTSTART:20260308T090000
TZOFFSETFROM:-0700
TZOFFSETTO:-0600
TZNAME:MDT
END:DAYLIGHT
BEGIN:STANDARD
DTSTART:20261101T080000
TZOFFSETFROM:-0600
TZOFFSETTO:-0700
TZNAME:MST
END:STANDARD
END:VTIMEZONE
BEGIN:VEVENT
UID:22964-events@goharlowsmccall.com
DTSTART;TZID=America/Boise:20220815T130000
DTEND;TZID=America/Boise:20220815T000000
DTSTAMP;TZID=America/Boise:20220803T100105
SUMMARY:White Otter Outdoor – Carey Creek to Lake Fork ??? bus? onto Sunb
 eam Id\, ??? bus?\, CANCELED
URL:https://goharlowsmccall.com/events/white-otter-outdoor-carey-creek-to-s
 unbeam-id-bus/
END:VEVENT
END:VCALENDAR