BEGIN:VCALENDAR
VERSION:2.0
PRODID:-//RIGHTHERE//CALENDARIZE IT V3.2//EN
BEGIN:VTIMEZONE
TZID:America/Boise
BEGIN:STANDARD
DTSTART:20251102T080000
TZOFFSETFROM:-0600
TZOFFSETTO:-0700
TZNAME:MST
END:STANDARD
BEGIN:DAYLIGHT
DTSTART:20260308T090000
TZOFFSETFROM:-0700
TZOFFSETTO:-0600
TZNAME:MDT
END:DAYLIGHT
BEGIN:STANDARD
DTSTART:20261101T080000
TZOFFSETFROM:-0600
TZOFFSETTO:-0700
TZNAME:MST
END:STANDARD
END:VTIMEZONE
BEGIN:VEVENT
UID:23294-events@goharlowsmccall.com
DTSTART;TZID=America/Boise:20221019T151500
DTEND;TZID=America/Boise:20221022T220000
DTSTAMP;TZID=America/Boise:20220927T094314
SUMMARY:MDHS – Boys Soccer State to Twin Falls\, JeO 7004
URL:https://goharlowsmccall.com/events/mdhs-boys-girls-soccer-state-to-twin
 -falls-bus-bus/
END:VEVENT
END:VCALENDAR