BEGIN:VCALENDAR
VERSION:2.0
PRODID:-//RIGHTHERE//CALENDARIZE IT V3.2//EN
BEGIN:VTIMEZONE
TZID:America/Boise
BEGIN:STANDARD
DTSTART:20251102T080000
TZOFFSETFROM:-0600
TZOFFSETTO:-0700
TZNAME:MST
END:STANDARD
BEGIN:DAYLIGHT
DTSTART:20260308T090000
TZOFFSETFROM:-0700
TZOFFSETTO:-0600
TZNAME:MDT
END:DAYLIGHT
BEGIN:STANDARD
DTSTART:20261101T080000
TZOFFSETFROM:-0600
TZOFFSETTO:-0700
TZNAME:MST
END:STANDARD
END:VTIMEZONE
BEGIN:VEVENT
UID:23588-events@goharlowsmccall.com
DTSTART;TZID=America/Boise:20221122T083000
DTEND;TZID=America/Boise:20221122T000000
DTSTAMP;TZID=America/Boise:20221117T133141
SUMMARY:BMES – 4th & 5th grade to McCall Community Church\, Tel 6415\, Sh
 E 5949\,
URL:https://goharlowsmccall.com/events/bmes-4th-5th-grade-to-mccall-communi
 ty-church-tel-6415-edk-6358-lem-5738/
END:VEVENT
END:VCALENDAR