BEGIN:VCALENDAR
VERSION:2.0
PRODID:-//RIGHTHERE//CALENDARIZE IT V3.2//EN
BEGIN:VTIMEZONE
TZID:America/Boise
BEGIN:STANDARD
DTSTART:20251102T080000
TZOFFSETFROM:-0600
TZOFFSETTO:-0700
TZNAME:MST
END:STANDARD
BEGIN:DAYLIGHT
DTSTART:20260308T090000
TZOFFSETFROM:-0700
TZOFFSETTO:-0600
TZNAME:MDT
END:DAYLIGHT
BEGIN:STANDARD
DTSTART:20261101T080000
TZOFFSETFROM:-0600
TZOFFSETTO:-0700
TZNAME:MST
END:STANDARD
END:VTIMEZONE
BEGIN:VEVENT
UID:23616-events@goharlowsmccall.com
DTSTART;TZID=America/Boise:20221201T110000
DTEND;TZID=America/Boise:20221204T180000
DTSTAMP;TZID=America/Boise:20221128T131300
SUMMARY:MDHS – Drama to Coeur ‘Alene\, TBD\, JeO 7004
URL:https://goharlowsmccall.com/events/mdhs-drama-to-coeur-alene-tbd-jeo-70
 04/
END:VEVENT
END:VCALENDAR