BEGIN:VCALENDAR
VERSION:2.0
PRODID:-//RIGHTHERE//CALENDARIZE IT V3.2//EN
BEGIN:VTIMEZONE
TZID:America/Boise
BEGIN:STANDARD
DTSTART:20251102T080000
TZOFFSETFROM:-0600
TZOFFSETTO:-0700
TZNAME:MST
END:STANDARD
BEGIN:DAYLIGHT
DTSTART:20260308T090000
TZOFFSETFROM:-0700
TZOFFSETTO:-0600
TZNAME:MDT
END:DAYLIGHT
BEGIN:STANDARD
DTSTART:20261101T080000
TZOFFSETFROM:-0600
TZOFFSETTO:-0700
TZNAME:MST
END:STANDARD
END:VTIMEZONE
BEGIN:VEVENT
UID:23683-events@goharlowsmccall.com
DTSTART;TZID=America/Boise:20230125T141500
DTEND;TZID=America/Boise:20230125T000000
DTSTAMP;TZID=America/Boise:20230109T111618
SUMMARY:PLMS – Boys Basketball to Cascade\, JeO 7004
URL:https://goharlowsmccall.com/events/plms-boys-basketball-to-cascade-bus/
END:VEVENT
END:VCALENDAR