BEGIN:VCALENDAR
VERSION:2.0
PRODID:-//RIGHTHERE//CALENDARIZE IT V3.2//EN
BEGIN:VTIMEZONE
TZID:America/Boise
BEGIN:STANDARD
DTSTART:20251102T080000
TZOFFSETFROM:-0600
TZOFFSETTO:-0700
TZNAME:MST
END:STANDARD
BEGIN:DAYLIGHT
DTSTART:20260308T090000
TZOFFSETFROM:-0700
TZOFFSETTO:-0600
TZNAME:MDT
END:DAYLIGHT
BEGIN:STANDARD
DTSTART:20261101T080000
TZOFFSETFROM:-0600
TZOFFSETTO:-0700
TZNAME:MST
END:STANDARD
END:VTIMEZONE
BEGIN:VEVENT
UID:23832-events@goharlowsmccall.com
DTSTART;TZID=America/Boise:20230222T173000
DTEND;TZID=America/Boise:20230225T230000
DTSTAMP;TZID=America/Boise:20230202T124333
SUMMARY:MDHS – Wrestling to Ford Idaho Center\, JeO 7004 EdK swapping on 
 Friday
URL:https://goharlowsmccall.com/events/mdhs-wrestling-to-ford-idaho-center-
 bus/
END:VEVENT
END:VCALENDAR