BEGIN:VCALENDAR
VERSION:2.0
PRODID:-//RIGHTHERE//CALENDARIZE IT V3.2//EN
BEGIN:VTIMEZONE
TZID:America/Boise
BEGIN:STANDARD
DTSTART:20251102T080000
TZOFFSETFROM:-0600
TZOFFSETTO:-0700
TZNAME:MST
END:STANDARD
BEGIN:DAYLIGHT
DTSTART:20260308T090000
TZOFFSETFROM:-0700
TZOFFSETTO:-0600
TZNAME:MDT
END:DAYLIGHT
BEGIN:STANDARD
DTSTART:20261101T080000
TZOFFSETFROM:-0600
TZOFFSETTO:-0700
TZNAME:MST
END:STANDARD
END:VTIMEZONE
BEGIN:VEVENT
UID:23838-events@goharlowsmccall.com
DTSTART;TZID=America/Boise:20230309T110000
DTEND;TZID=America/Boise:20230309T000000
DTSTAMP;TZID=America/Boise:20230202T125845
SUMMARY:MDHS – Golf to Purple Sage Golf Course\, JeO 7004 CANCELED
URL:https://goharlowsmccall.com/events/mdhs-golf-to-purple-sage-golf-course
 -bus/
END:VEVENT
END:VCALENDAR