BEGIN:VCALENDAR
VERSION:2.0
PRODID:-//RIGHTHERE//CALENDARIZE IT V3.2//EN
BEGIN:VTIMEZONE
TZID:America/Boise
BEGIN:STANDARD
DTSTART:20251102T080000
TZOFFSETFROM:-0600
TZOFFSETTO:-0700
TZNAME:MST
END:STANDARD
BEGIN:DAYLIGHT
DTSTART:20260308T090000
TZOFFSETFROM:-0700
TZOFFSETTO:-0600
TZNAME:MDT
END:DAYLIGHT
BEGIN:STANDARD
DTSTART:20261101T080000
TZOFFSETFROM:-0600
TZOFFSETTO:-0700
TZNAME:MST
END:STANDARD
END:VTIMEZONE
BEGIN:VEVENT
UID:23863-events@goharlowsmccall.com
DTSTART;TZID=America/Boise:20230310T100000
DTEND;TZID=America/Boise:20230310T000000
DTSTAMP;TZID=America/Boise:20230207T092924
SUMMARY:MDHS – Track to Weiser\, ElS 6520\, JeO 7004 CANCELED
URL:https://goharlowsmccall.com/events/mdhs-track-to-weiser-bus-bus-2/
END:VEVENT
END:VCALENDAR