BEGIN:VCALENDAR
VERSION:2.0
PRODID:-//RIGHTHERE//CALENDARIZE IT V3.2//EN
BEGIN:VTIMEZONE
TZID:America/Boise
BEGIN:STANDARD
DTSTART:20251102T080000
TZOFFSETFROM:-0600
TZOFFSETTO:-0700
TZNAME:MST
END:STANDARD
BEGIN:DAYLIGHT
DTSTART:20260308T090000
TZOFFSETFROM:-0700
TZOFFSETTO:-0600
TZNAME:MDT
END:DAYLIGHT
BEGIN:STANDARD
DTSTART:20261101T080000
TZOFFSETFROM:-0600
TZOFFSETTO:-0700
TZNAME:MST
END:STANDARD
END:VTIMEZONE
BEGIN:VEVENT
UID:23905-events@goharlowsmccall.com
DTSTART;TZID=America/Boise:20230823T030100
DTEND;TZID=America/Boise:20230823T000000
DTSTAMP;TZID=America/Boise:20230210T102516
SUMMARY:White Otter – Carey Creek to McCall Aviation\, ??? bus? CANCELED
URL:https://goharlowsmccall.com/events/white-otter-carey-creek-to-mccall-av
 iation-bus-6/
END:VEVENT
END:VCALENDAR