BEGIN:VCALENDAR
VERSION:2.0
PRODID:-//RIGHTHERE//CALENDARIZE IT V3.2//EN
BEGIN:VTIMEZONE
TZID:America/Boise
BEGIN:STANDARD
DTSTART:20251102T080000
TZOFFSETFROM:-0600
TZOFFSETTO:-0700
TZNAME:MST
END:STANDARD
BEGIN:DAYLIGHT
DTSTART:20260308T090000
TZOFFSETFROM:-0700
TZOFFSETTO:-0600
TZNAME:MDT
END:DAYLIGHT
BEGIN:STANDARD
DTSTART:20261101T080000
TZOFFSETFROM:-0600
TZOFFSETTO:-0700
TZNAME:MST
END:STANDARD
END:VTIMEZONE
BEGIN:VEVENT
UID:24051-events@goharlowsmccall.com
DTSTART;TZID=America/Boise:20230617T160000
DTEND;TZID=America/Boise:20230617T000000
DTSTAMP;TZID=America/Boise:20230306T110907
SUMMARY:Whitetail Progressive Dinner – Clubhouse to 3 residences in White
 tail\, AmH 6287\, KeH 3197
URL:https://goharlowsmccall.com/events/whitetail-progressive-dinner-clubhou
 se-to-3-residences-in-whitetail-6287-bus/
END:VEVENT
END:VCALENDAR