BEGIN:VCALENDAR
VERSION:2.0
PRODID:-//RIGHTHERE//CALENDARIZE IT V3.2//EN
BEGIN:VTIMEZONE
TZID:America/Boise
BEGIN:STANDARD
DTSTART:20251102T080000
TZOFFSETFROM:-0600
TZOFFSETTO:-0700
TZNAME:MST
END:STANDARD
BEGIN:DAYLIGHT
DTSTART:20260308T090000
TZOFFSETFROM:-0700
TZOFFSETTO:-0600
TZNAME:MDT
END:DAYLIGHT
BEGIN:STANDARD
DTSTART:20261101T080000
TZOFFSETFROM:-0600
TZOFFSETTO:-0700
TZNAME:MST
END:STANDARD
END:VTIMEZONE
BEGIN:VEVENT
UID:24065-events@goharlowsmccall.com
DTSTART;TZID=America/Boise:20230403T060000
DTEND;TZID=America/Boise:20230403T000000
DTSTAMP;TZID=America/Boise:20230307T094550
SUMMARY:MDHS – Golf to Desert Canyon Golf Course\, JeO 7004 CANCELED
URL:https://goharlowsmccall.com/events/mdhs-golf-to-desert-canyon-golf-cour
 se-bus/
END:VEVENT
END:VCALENDAR