BEGIN:VCALENDAR
VERSION:2.0
PRODID:-//RIGHTHERE//CALENDARIZE IT V3.2//EN
BEGIN:VTIMEZONE
TZID:America/Boise
BEGIN:STANDARD
DTSTART:20251102T080000
TZOFFSETFROM:-0600
TZOFFSETTO:-0700
TZNAME:MST
END:STANDARD
BEGIN:DAYLIGHT
DTSTART:20260308T090000
TZOFFSETFROM:-0700
TZOFFSETTO:-0600
TZNAME:MDT
END:DAYLIGHT
BEGIN:STANDARD
DTSTART:20261101T080000
TZOFFSETFROM:-0600
TZOFFSETTO:-0700
TZNAME:MST
END:STANDARD
END:VTIMEZONE
BEGIN:VEVENT
UID:24211-events@goharlowsmccall.com
DTSTART;TZID=America/Boise:20230417T120000
DTEND;TZID=America/Boise:20230417T000000
DTSTAMP;TZID=America/Boise:20230321T092914
SUMMARY:MDHS – Golf to Rolling Hills Golf Course\, JeO 7004
URL:https://goharlowsmccall.com/events/mdhs-golf-to-rolling-hills-golf-cour
 se-bus/
END:VEVENT
END:VCALENDAR