BEGIN:VCALENDAR
VERSION:2.0
PRODID:-//RIGHTHERE//CALENDARIZE IT V3.2//EN
BEGIN:VTIMEZONE
TZID:America/Boise
BEGIN:STANDARD
DTSTART:20251102T080000
TZOFFSETFROM:-0600
TZOFFSETTO:-0700
TZNAME:MST
END:STANDARD
BEGIN:DAYLIGHT
DTSTART:20260308T090000
TZOFFSETFROM:-0700
TZOFFSETTO:-0600
TZNAME:MDT
END:DAYLIGHT
BEGIN:STANDARD
DTSTART:20261101T080000
TZOFFSETFROM:-0600
TZOFFSETTO:-0700
TZNAME:MST
END:STANDARD
END:VTIMEZONE
BEGIN:VEVENT
UID:24289-events@goharlowsmccall.com
DTSTART;TZID=America/Boise:20230626T140000
DTEND;TZID=America/Boise:20230626T000000
DTSTAMP;TZID=America/Boise:20230324T104241
SUMMARY:OARS – Spring Bar to McCall\, MiG 5951 CANCELED
URL:https://goharlowsmccall.com/events/oars-spring-bar-to-mccall-bus-2/
END:VEVENT
END:VCALENDAR