BEGIN:VCALENDAR
VERSION:2.0
PRODID:-//RIGHTHERE//CALENDARIZE IT V3.2//EN
BEGIN:VTIMEZONE
TZID:America/Boise
BEGIN:STANDARD
DTSTART:20251102T080000
TZOFFSETFROM:-0600
TZOFFSETTO:-0700
TZNAME:MST
END:STANDARD
BEGIN:DAYLIGHT
DTSTART:20260308T090000
TZOFFSETFROM:-0700
TZOFFSETTO:-0600
TZNAME:MDT
END:DAYLIGHT
BEGIN:STANDARD
DTSTART:20261101T080000
TZOFFSETFROM:-0600
TZOFFSETTO:-0700
TZNAME:MST
END:STANDARD
END:VTIMEZONE
BEGIN:VEVENT
UID:24383-events@goharlowsmccall.com
DTSTART;TZID=America/Boise:20230804T113000
DTEND;TZID=America/Boise:20230804T000000
DTSTAMP;TZID=America/Boise:20230331T102741
SUMMARY:Salmon River Lodge – Carey Creek to McCall MiG 5951\, onto Boise\
 , JaS bus 5452
URL:https://goharlowsmccall.com/events/salmon-river-lodge-carey-creek-to-mc
 call-bus-onto-boise-bus-5/
END:VEVENT
END:VCALENDAR