BEGIN:VCALENDAR
VERSION:2.0
PRODID:-//RIGHTHERE//CALENDARIZE IT V3.2//EN
BEGIN:VTIMEZONE
TZID:America/Boise
BEGIN:STANDARD
DTSTART:20251102T080000
TZOFFSETFROM:-0600
TZOFFSETTO:-0700
TZNAME:MST
END:STANDARD
BEGIN:DAYLIGHT
DTSTART:20260308T090000
TZOFFSETFROM:-0700
TZOFFSETTO:-0600
TZNAME:MDT
END:DAYLIGHT
BEGIN:STANDARD
DTSTART:20261101T080000
TZOFFSETFROM:-0600
TZOFFSETTO:-0700
TZNAME:MST
END:STANDARD
END:VTIMEZONE
BEGIN:VEVENT
UID:24533-events@goharlowsmccall.com
DTSTART;TZID=America/Boise:20230427T121500
DTEND;TZID=America/Boise:20230427T000000
DTSTAMP;TZID=America/Boise:20230419T165354
SUMMARY:PLMS – Track to Kamiah\, JeO 7004\, JaS 6065
URL:https://goharlowsmccall.com/events/plms-track-to-kamiah-jeo-7004-jas-60
 65/
END:VEVENT
END:VCALENDAR