BEGIN:VCALENDAR
VERSION:2.0
PRODID:-//RIGHTHERE//CALENDARIZE IT V3.2//EN
BEGIN:VTIMEZONE
TZID:America/Boise
BEGIN:STANDARD
DTSTART:20251102T080000
TZOFFSETFROM:-0600
TZOFFSETTO:-0700
TZNAME:MST
END:STANDARD
BEGIN:DAYLIGHT
DTSTART:20260308T090000
TZOFFSETFROM:-0700
TZOFFSETTO:-0600
TZNAME:MDT
END:DAYLIGHT
BEGIN:STANDARD
DTSTART:20261101T080000
TZOFFSETFROM:-0600
TZOFFSETTO:-0700
TZNAME:MST
END:STANDARD
END:VTIMEZONE
BEGIN:VEVENT
UID:2454-events@goharlowsmccall.com
DTSTART;TZID=America/Boise:20160711T123000
DTEND;TZID=America/Boise:20160711T160000
DTSTAMP;TZID=America/Boise:20160622T105528
SUMMARY:River of no Return Wilderness Outfitters -TO- Vinegar Creek  JIM #8
URL:https://goharlowsmccall.com/events/river-of-no-return-wilderness-outfit
 ters-to-vinegar-creek/
ORGANIZER;CN=River of No Return Wilderness Outfitters:
LOCATION:McCall
END:VEVENT
END:VCALENDAR