BEGIN:VCALENDAR
VERSION:2.0
PRODID:-//RIGHTHERE//CALENDARIZE IT V3.2//EN
BEGIN:VTIMEZONE
TZID:America/Boise
BEGIN:STANDARD
DTSTART:20251102T080000
TZOFFSETFROM:-0600
TZOFFSETTO:-0700
TZNAME:MST
END:STANDARD
BEGIN:DAYLIGHT
DTSTART:20260308T090000
TZOFFSETFROM:-0700
TZOFFSETTO:-0600
TZNAME:MDT
END:DAYLIGHT
BEGIN:STANDARD
DTSTART:20261101T080000
TZOFFSETFROM:-0600
TZOFFSETTO:-0700
TZNAME:MST
END:STANDARD
END:VTIMEZONE
BEGIN:VEVENT
UID:25053-events@goharlowsmccall.com
DTSTART;TZID=America/Boise:20230822T093000
DTEND;TZID=America/Boise:20230823T230000
DTSTAMP;TZID=America/Boise:20230612T090813
SUMMARY:MDHS – Girls Soccer to Real Life Turf Fields/Timberlake\, KeH 545
 2
URL:https://goharlowsmccall.com/events/mdhs-girls-soccer-to-real-life-turf-
 fields-timberlake/
END:VEVENT
END:VCALENDAR