BEGIN:VCALENDAR
VERSION:2.0
PRODID:-//RIGHTHERE//CALENDARIZE IT V3.2//EN
BEGIN:VTIMEZONE
TZID:America/Boise
BEGIN:STANDARD
DTSTART:20251102T080000
TZOFFSETFROM:-0600
TZOFFSETTO:-0700
TZNAME:MST
END:STANDARD
BEGIN:DAYLIGHT
DTSTART:20260308T090000
TZOFFSETFROM:-0700
TZOFFSETTO:-0600
TZNAME:MDT
END:DAYLIGHT
BEGIN:STANDARD
DTSTART:20261101T080000
TZOFFSETFROM:-0600
TZOFFSETTO:-0700
TZNAME:MST
END:STANDARD
END:VTIMEZONE
BEGIN:VEVENT
UID:25488-events@goharlowsmccall.com
DTSTART;TZID=America/Boise:20230915T123000
DTEND;TZID=America/Boise:20230915T000000
DTSTAMP;TZID=America/Boise:20230720T140202
SUMMARY:PLMS-X COUNTRY-MERIDIAN (Julius Kleiner Park)\, ChB 5452
URL:https://goharlowsmccall.com/events/plms-x-country-meridian-julius-klein
 er-park/
END:VEVENT
END:VCALENDAR