BEGIN:VCALENDAR
VERSION:2.0
PRODID:-//RIGHTHERE//CALENDARIZE IT V3.2//EN
BEGIN:VTIMEZONE
TZID:America/Boise
BEGIN:STANDARD
DTSTART:20251102T080000
TZOFFSETFROM:-0600
TZOFFSETTO:-0700
TZNAME:MST
END:STANDARD
BEGIN:DAYLIGHT
DTSTART:20260308T090000
TZOFFSETFROM:-0700
TZOFFSETTO:-0600
TZNAME:MDT
END:DAYLIGHT
BEGIN:STANDARD
DTSTART:20261101T080000
TZOFFSETFROM:-0600
TZOFFSETTO:-0700
TZNAME:MST
END:STANDARD
END:VTIMEZONE
BEGIN:VEVENT
UID:25638-events@goharlowsmccall.com
DTSTART;TZID=America/Boise:20230922T124500
DTEND;TZID=America/Boise:20230922T145000
DTSTAMP;TZID=America/Boise:20230810T080228
SUMMARY:MDHS FOOTBALL- FRUITLAND\,  JV at 12:10 BrP 6065\, Varsity JaS 7004
URL:https://goharlowsmccall.com/events/mdhs-football-fruitland-bus-bus/
END:VEVENT
END:VCALENDAR