BEGIN:VCALENDAR
VERSION:2.0
PRODID:-//RIGHTHERE//CALENDARIZE IT V3.2//EN
BEGIN:VTIMEZONE
TZID:America/Boise
BEGIN:STANDARD
DTSTART:20251102T080000
TZOFFSETFROM:-0600
TZOFFSETTO:-0700
TZNAME:MST
END:STANDARD
BEGIN:DAYLIGHT
DTSTART:20260308T090000
TZOFFSETFROM:-0700
TZOFFSETTO:-0600
TZNAME:MDT
END:DAYLIGHT
BEGIN:STANDARD
DTSTART:20261101T080000
TZOFFSETFROM:-0600
TZOFFSETTO:-0700
TZNAME:MST
END:STANDARD
END:VTIMEZONE
BEGIN:VEVENT
UID:2578-events@goharlowsmccall.com
DTSTART;TZID=America/Boise:20160726T110000
DTEND;TZID=America/Boise:20160726T000000
DTSTAMP;TZID=America/Boise:20160628T090210
SUMMARY:MFRE – Carey Crk to Mcc(Christy)- Mcc to Boi(Roger) – PAX 8-496
 7
URL:https://goharlowsmccall.com/events/mfre-carey-creek-to-pax-8/
ORGANIZER;CN=Christy:
LOCATION:Boise
END:VEVENT
END:VCALENDAR