BEGIN:VCALENDAR
VERSION:2.0
PRODID:-//RIGHTHERE//CALENDARIZE IT V3.2//EN
BEGIN:VTIMEZONE
TZID:America/Boise
BEGIN:STANDARD
DTSTART:20251102T080000
TZOFFSETFROM:-0600
TZOFFSETTO:-0700
TZNAME:MST
END:STANDARD
BEGIN:DAYLIGHT
DTSTART:20260308T090000
TZOFFSETFROM:-0700
TZOFFSETTO:-0600
TZNAME:MDT
END:DAYLIGHT
BEGIN:STANDARD
DTSTART:20261101T080000
TZOFFSETFROM:-0600
TZOFFSETTO:-0700
TZNAME:MST
END:STANDARD
END:VTIMEZONE
BEGIN:VEVENT
UID:26000-events@goharlowsmccall.com
DTSTART;TZID=America/Boise:20231026T114500
DTEND;TZID=America/Boise:20231028T235900
DTSTAMP;TZID=America/Boise:20230922T143720
SUMMARY:MDHS V-Ball State\, Lake City HS DoT 5452
URL:https://goharlowsmccall.com/events/mdhs-v-ball-state-lake-city-hs-bus/
END:VEVENT
END:VCALENDAR