BEGIN:VCALENDAR
VERSION:2.0
PRODID:-//RIGHTHERE//CALENDARIZE IT V3.2//EN
BEGIN:VTIMEZONE
TZID:America/Boise
BEGIN:STANDARD
DTSTART:20251102T080000
TZOFFSETFROM:-0600
TZOFFSETTO:-0700
TZNAME:MST
END:STANDARD
BEGIN:DAYLIGHT
DTSTART:20260308T090000
TZOFFSETFROM:-0700
TZOFFSETTO:-0600
TZNAME:MDT
END:DAYLIGHT
BEGIN:STANDARD
DTSTART:20261101T080000
TZOFFSETFROM:-0600
TZOFFSETTO:-0700
TZNAME:MST
END:STANDARD
END:VTIMEZONE
BEGIN:VEVENT
UID:26375-events@goharlowsmccall.com
DTSTART;TZID=America/Boise:20240222T113000
DTEND;TZID=America/Boise:20240224T235900
DTSTAMP;TZID=America/Boise:20231026T071850
SUMMARY:MDHS State Wrestling Holt Arena Pocatello MiC 6065\, (EdK PM COVER 
 Thursday)
URL:https://goharlowsmccall.com/events/mdhs-state-wrestling-holt-arena-poca
 tello-bus/
END:VEVENT
END:VCALENDAR