BEGIN:VCALENDAR
VERSION:2.0
PRODID:-//RIGHTHERE//CALENDARIZE IT V3.2//EN
BEGIN:VTIMEZONE
TZID:America/Boise
BEGIN:STANDARD
DTSTART:20251102T080000
TZOFFSETFROM:-0600
TZOFFSETTO:-0700
TZNAME:MST
END:STANDARD
BEGIN:DAYLIGHT
DTSTART:20260308T090000
TZOFFSETFROM:-0700
TZOFFSETTO:-0600
TZNAME:MDT
END:DAYLIGHT
BEGIN:STANDARD
DTSTART:20261101T080000
TZOFFSETFROM:-0600
TZOFFSETTO:-0700
TZNAME:MST
END:STANDARD
END:VTIMEZONE
BEGIN:VEVENT
UID:2667-events@goharlowsmccall.com
DTSTART;TZID=America/Boise:20160709T170000
DTEND;TZID=America/Boise:20160709T000000
DTSTAMP;TZID=America/Boise:20160630T093802
SUMMARY:Chessin/Young Wedding – PAX 80-100 – 4225\, 4967 +4893- Jim\, J
 eff\, Nancy
URL:https://goharlowsmccall.com/events/chessinyoung-wedding-pax-80-100-4225
 -4967-1/
ORGANIZER;CN=Jim:
LOCATION:McCall
END:VEVENT
END:VCALENDAR