BEGIN:VCALENDAR
VERSION:2.0
PRODID:-//RIGHTHERE//CALENDARIZE IT V3.2//EN
BEGIN:VTIMEZONE
TZID:America/Boise
BEGIN:STANDARD
DTSTART:20251102T080000
TZOFFSETFROM:-0600
TZOFFSETTO:-0700
TZNAME:MST
END:STANDARD
BEGIN:DAYLIGHT
DTSTART:20260308T090000
TZOFFSETFROM:-0700
TZOFFSETTO:-0600
TZNAME:MDT
END:DAYLIGHT
BEGIN:STANDARD
DTSTART:20261101T080000
TZOFFSETFROM:-0600
TZOFFSETTO:-0700
TZNAME:MST
END:STANDARD
END:VTIMEZONE
BEGIN:VEVENT
UID:27238-events@goharlowsmccall.com
DTSTART;TZID=America/Boise:20240726T110000
DTEND;TZID=America/Boise:20240726T235900
DTSTAMP;TZID=America/Boise:20240212T094851
SUMMARY:ROCKY MOUNTAIN RIVER Takeout from Carey Creek 11am to McCall Airpor
 t LeM 6096
URL:https://goharlowsmccall.com/events/rocky-mountain-river-takeout-from-ca
 rey-creek-11am-to-mccall-airport-bus/
ORGANIZER;CN=Rocky Mountian River Tours:MAILTO:krista@rafttrips.com
END:VEVENT
END:VCALENDAR