BEGIN:VCALENDAR
VERSION:2.0
PRODID:-//RIGHTHERE//CALENDARIZE IT V3.2//EN
BEGIN:VTIMEZONE
TZID:America/Boise
BEGIN:STANDARD
DTSTART:20251102T080000
TZOFFSETFROM:-0600
TZOFFSETTO:-0700
TZNAME:MST
END:STANDARD
BEGIN:DAYLIGHT
DTSTART:20260308T090000
TZOFFSETFROM:-0700
TZOFFSETTO:-0600
TZNAME:MDT
END:DAYLIGHT
BEGIN:STANDARD
DTSTART:20261101T080000
TZOFFSETFROM:-0600
TZOFFSETTO:-0700
TZNAME:MST
END:STANDARD
END:VTIMEZONE
BEGIN:VEVENT
UID:27240-events@goharlowsmccall.com
DTSTART;TZID=America/Boise:20240803T110000
DTEND;TZID=America/Boise:20240803T235900
DTSTAMP;TZID=America/Boise:20240212T095230
SUMMARY:ROCKY MOUNTAIN RIVER Takeout from Carey Creek 11am to McCall airpor
 t 24 passengers ChB Bus 5949
URL:https://goharlowsmccall.com/events/rocky-mountain-river-takeout-from-ca
 rey-creek-11am-to-mccall-airport-24-passengers-bus-2/
ORGANIZER;CN=Rocky Mountian River Tours:MAILTO:krista@rafttrips.com
END:VEVENT
END:VCALENDAR