BEGIN:VCALENDAR
VERSION:2.0
PRODID:-//RIGHTHERE//CALENDARIZE IT V3.2//EN
BEGIN:VTIMEZONE
TZID:America/Boise
BEGIN:STANDARD
DTSTART:20251102T080000
TZOFFSETFROM:-0600
TZOFFSETTO:-0700
TZNAME:MST
END:STANDARD
BEGIN:DAYLIGHT
DTSTART:20260308T090000
TZOFFSETFROM:-0700
TZOFFSETTO:-0600
TZNAME:MDT
END:DAYLIGHT
BEGIN:STANDARD
DTSTART:20261101T080000
TZOFFSETFROM:-0600
TZOFFSETTO:-0700
TZNAME:MST
END:STANDARD
END:VTIMEZONE
BEGIN:VEVENT
UID:2750-events@goharlowsmccall.com
DTSTART;TZID=America/Boise:20160713T181500
DTEND;TZID=America/Boise:20160713T000000
DTSTAMP;TZID=America/Boise:20160706T123614
SUMMARY:4H Adventure Camp – Gold Forks Hot Springs – PAX 82-88-2 buses\
 , Jim #5\, Sharon #4
URL:https://goharlowsmccall.com/events/4h-adventure-camp-gold-forks-hot-spr
 ings-pax-82-88-2-buses/
ORGANIZER;CN=Jim:
LOCATION:Donnelly
END:VEVENT
END:VCALENDAR