BEGIN:VCALENDAR
VERSION:2.0
PRODID:-//RIGHTHERE//CALENDARIZE IT V3.2//EN
BEGIN:VTIMEZONE
TZID:America/Boise
BEGIN:STANDARD
DTSTART:20251102T080000
TZOFFSETFROM:-0600
TZOFFSETTO:-0700
TZNAME:MST
END:STANDARD
BEGIN:DAYLIGHT
DTSTART:20260308T090000
TZOFFSETFROM:-0700
TZOFFSETTO:-0600
TZNAME:MDT
END:DAYLIGHT
BEGIN:STANDARD
DTSTART:20261101T080000
TZOFFSETFROM:-0600
TZOFFSETTO:-0700
TZNAME:MST
END:STANDARD
END:VTIMEZONE
BEGIN:VEVENT
UID:2960-events@goharlowsmccall.com
DTSTART;TZID=America/Boise:20160817T090000
DTEND;TZID=America/Boise:20160818T140000
DTSTAMP;TZID=America/Boise:20160713T144040
SUMMARY:**Canceled due to inactivity***Bachelor-ette Transport – Round Tr
 ip BOI to MCC – PAX 20 – Char
URL:https://goharlowsmccall.com/events/bachelor-ette-transport-round-trip-b
 oi-to-mcc-pax-20/
LOCATION:Boise
END:VEVENT
END:VCALENDAR