BEGIN:VCALENDAR
VERSION:2.0
PRODID:-//RIGHTHERE//CALENDARIZE IT V3.2//EN
BEGIN:VTIMEZONE
TZID:America/Boise
BEGIN:STANDARD
DTSTART:20251102T080000
TZOFFSETFROM:-0600
TZOFFSETTO:-0700
TZNAME:MST
END:STANDARD
BEGIN:DAYLIGHT
DTSTART:20260308T090000
TZOFFSETFROM:-0700
TZOFFSETTO:-0600
TZNAME:MDT
END:DAYLIGHT
BEGIN:STANDARD
DTSTART:20261101T080000
TZOFFSETFROM:-0600
TZOFFSETTO:-0700
TZNAME:MST
END:STANDARD
END:VTIMEZONE
BEGIN:VEVENT
UID:29646-events@goharlowsmccall.com
DTSTART;TZID=America/Boise:20250213T083000
DTEND;TZID=America/Boise:20250213T143000
DTSTAMP;TZID=America/Boise:20250129T100115
SUMMARY:BRMES 5th GRADE ski day ? Bus ??? / ? Bus ??? / ? Bus ???
URL:https://goharlowsmccall.com/events/brmes-5th-grade-ski-day-bus-bus-bus/
END:VEVENT
END:VCALENDAR