BEGIN:VCALENDAR
VERSION:2.0
PRODID:-//RIGHTHERE//CALENDARIZE IT V3.2//EN
BEGIN:VTIMEZONE
TZID:America/Boise
BEGIN:STANDARD
DTSTART:20251102T080000
TZOFFSETFROM:-0600
TZOFFSETTO:-0700
TZNAME:MST
END:STANDARD
BEGIN:DAYLIGHT
DTSTART:20260308T090000
TZOFFSETFROM:-0700
TZOFFSETTO:-0600
TZNAME:MDT
END:DAYLIGHT
BEGIN:STANDARD
DTSTART:20261101T080000
TZOFFSETFROM:-0600
TZOFFSETTO:-0700
TZNAME:MST
END:STANDARD
END:VTIMEZONE
BEGIN:VEVENT
UID:29935-events@goharlowsmccall.com
DTSTART;TZID=America/Boise:20250914T083000
DTEND;TZID=America/Boise:20250914T235900
DTSTAMP;TZID=America/Boise:20250415T080214
SUMMARY:OARS Halfway OR to Hells Canyon PU Pine Valley Airport 830PST to He
 lls Canyon DO 9:45PST ??? Bus ?
URL:https://goharlowsmccall.com/events/halfway-or-to-hells-canyon-pu-pine-v
 alley-airport-830pst-to-hells-canyon-do-945pst-bus-16/
ORGANIZER;CN=ODI - OARS DORIES\, Inc.:
END:VEVENT
END:VCALENDAR