BEGIN:VCALENDAR
VERSION:2.0
PRODID:-//RIGHTHERE//CALENDARIZE IT V3.2//EN
BEGIN:VTIMEZONE
TZID:America/Boise
BEGIN:STANDARD
DTSTART:20251102T080000
TZOFFSETFROM:-0600
TZOFFSETTO:-0700
TZNAME:MST
END:STANDARD
BEGIN:DAYLIGHT
DTSTART:20260308T090000
TZOFFSETFROM:-0700
TZOFFSETTO:-0600
TZNAME:MDT
END:DAYLIGHT
BEGIN:STANDARD
DTSTART:20261101T080000
TZOFFSETFROM:-0600
TZOFFSETTO:-0700
TZNAME:MST
END:STANDARD
END:VTIMEZONE
BEGIN:VEVENT
UID:3046-events@goharlowsmccall.com
DTSTART;TZID=America/Boise:20160806T160000
DTEND;TZID=America/Boise:20160806T230000
DTSTAMP;TZID=America/Boise:20160720T095559
SUMMARY:Charter for Jazz Fest@Jug Mt. – PAX 300+/- Jeff – 4967
URL:https://goharlowsmccall.com/events/charter-for-jazz-fest-pax-300-bus-12
 /
LOCATION:McCall
END:VEVENT
END:VCALENDAR