BEGIN:VCALENDAR
VERSION:2.0
PRODID:-//RIGHTHERE//CALENDARIZE IT V3.2//EN
BEGIN:VTIMEZONE
TZID:America/Boise
BEGIN:STANDARD
DTSTART:20251102T080000
TZOFFSETFROM:-0600
TZOFFSETTO:-0700
TZNAME:MST
END:STANDARD
BEGIN:DAYLIGHT
DTSTART:20260308T090000
TZOFFSETFROM:-0700
TZOFFSETTO:-0600
TZNAME:MDT
END:DAYLIGHT
BEGIN:STANDARD
DTSTART:20261101T080000
TZOFFSETFROM:-0600
TZOFFSETTO:-0700
TZNAME:MST
END:STANDARD
END:VTIMEZONE
BEGIN:VEVENT
UID:3127-events@goharlowsmccall.com
DTSTART;TZID=America/Boise:20160814T140000
DTEND;TZID=America/Boise:20160814T000000
DTSTAMP;TZID=America/Boise:20160726T101425
SUMMARY:MDHS -Drama 2 & A.P.Lit – Id Shakespeare Festival – PAX 30-Char
URL:https://goharlowsmccall.com/events/mdhs-drama-2-a-p-lit-id-shakespeare-
 festival-pax-30/
LOCATION:Boise
END:VEVENT
END:VCALENDAR