BEGIN:VCALENDAR
VERSION:2.0
PRODID:-//RIGHTHERE//CALENDARIZE IT V3.2//EN
BEGIN:VTIMEZONE
TZID:America/Boise
BEGIN:STANDARD
DTSTART:20251102T080000
TZOFFSETFROM:-0600
TZOFFSETTO:-0700
TZNAME:MST
END:STANDARD
BEGIN:DAYLIGHT
DTSTART:20260308T090000
TZOFFSETFROM:-0700
TZOFFSETTO:-0600
TZNAME:MDT
END:DAYLIGHT
BEGIN:STANDARD
DTSTART:20261101T080000
TZOFFSETFROM:-0600
TZOFFSETTO:-0700
TZNAME:MST
END:STANDARD
END:VTIMEZONE
BEGIN:VEVENT
UID:316-events@goharlowsmccall.com
DTSTART;TZID=America/Boise:20151019T081500
DTEND;TZID=America/Boise:20151019T163000
DTSTAMP;TZID=America/Boise:20151015T132915
SUMMARY:BOISE NATIONAL COLLEGE FAIR – JUAN # 55*
DESCRIPTION:HS JUNIORS - Going to 5610 N Glenwood St. Boise. Drop off stude
 nts at the parking lot @ corner of Glenwood &amp\; Chinden then at 11:45 l
 oad students and take them to Expo Center.
URL:https://goharlowsmccall.com/events/boise-national-college-fair-juan-54-
 jim-55/
LOCATION:Boise
END:VEVENT
END:VCALENDAR