BEGIN:VCALENDAR
VERSION:2.0
PRODID:-//RIGHTHERE//CALENDARIZE IT V3.2//EN
BEGIN:VTIMEZONE
TZID:America/Boise
BEGIN:STANDARD
DTSTART:20251102T080000
TZOFFSETFROM:-0600
TZOFFSETTO:-0700
TZNAME:MST
END:STANDARD
BEGIN:DAYLIGHT
DTSTART:20260308T090000
TZOFFSETFROM:-0700
TZOFFSETTO:-0600
TZNAME:MDT
END:DAYLIGHT
BEGIN:STANDARD
DTSTART:20261101T080000
TZOFFSETFROM:-0600
TZOFFSETTO:-0700
TZNAME:MST
END:STANDARD
END:VTIMEZONE
BEGIN:VEVENT
UID:3187-events@goharlowsmccall.com
DTSTART;VALUE=DATE:20160812
DTEND;VALUE=DATE:20160817
DTSTAMP;TZID=America/Boise:20160726T121244
SUMMARY:Jim & Nancy Not Avail.
URL:https://goharlowsmccall.com/events/jim-nancy-not-avail/
ORGANIZER;CN=Jim:
END:VEVENT
END:VCALENDAR