BEGIN:VCALENDAR
VERSION:2.0
PRODID:-//RIGHTHERE//CALENDARIZE IT V3.2//EN
BEGIN:VTIMEZONE
TZID:America/Boise
BEGIN:STANDARD
DTSTART:20251102T080000
TZOFFSETFROM:-0600
TZOFFSETTO:-0700
TZNAME:MST
END:STANDARD
BEGIN:DAYLIGHT
DTSTART:20260308T090000
TZOFFSETFROM:-0700
TZOFFSETTO:-0600
TZNAME:MDT
END:DAYLIGHT
BEGIN:STANDARD
DTSTART:20261101T080000
TZOFFSETFROM:-0600
TZOFFSETTO:-0700
TZNAME:MST
END:STANDARD
END:VTIMEZONE
BEGIN:VEVENT
UID:3253-events@goharlowsmccall.com
DTSTART;TZID=America/Boise:20160809T130000
DTEND;TZID=America/Boise:20160809T000000
DTSTAMP;TZID=America/Boise:20160801T134430
SUMMARY:H2o- PL to HC to Rig – PAX 12/4+Gear- Charlie
URL:https://goharlowsmccall.com/events/h2o-pittsburg-landing-to-pax-14-char
 lie/
ORGANIZER;CN=Charlie:
LOCATION:Pittsburgh Landing
END:VEVENT
END:VCALENDAR