BEGIN:VCALENDAR
VERSION:2.0
PRODID:-//RIGHTHERE//CALENDARIZE IT V3.2//EN
BEGIN:VTIMEZONE
TZID:America/Boise
BEGIN:STANDARD
DTSTART:20251102T080000
TZOFFSETFROM:-0600
TZOFFSETTO:-0700
TZNAME:MST
END:STANDARD
BEGIN:DAYLIGHT
DTSTART:20260308T090000
TZOFFSETFROM:-0700
TZOFFSETTO:-0600
TZNAME:MDT
END:DAYLIGHT
BEGIN:STANDARD
DTSTART:20261101T080000
TZOFFSETFROM:-0600
TZOFFSETTO:-0700
TZNAME:MST
END:STANDARD
END:VTIMEZONE
BEGIN:VEVENT
UID:3380-events@goharlowsmccall.com
DTSTART;TZID=America/Boise:20160902T081500
DTEND;TZID=America/Boise:20160902T131500
DTSTAMP;TZID=America/Boise:20160810T144433
SUMMARY:BRMES- S.Fork Salmon Weir- PAX 82- 2 drivers- Char #7 & Kat #6
URL:https://goharlowsmccall.com/events/brmes-s-fork-salmon-weir-pax-82-2-dr
 ivers/
LOCATION:BRMES
END:VEVENT
END:VCALENDAR