BEGIN:VCALENDAR
VERSION:2.0
PRODID:-//RIGHTHERE//CALENDARIZE IT V3.2//EN
BEGIN:VTIMEZONE
TZID:America/Boise
BEGIN:STANDARD
DTSTART:20251102T080000
TZOFFSETFROM:-0600
TZOFFSETTO:-0700
TZNAME:MST
END:STANDARD
BEGIN:DAYLIGHT
DTSTART:20260308T090000
TZOFFSETFROM:-0700
TZOFFSETTO:-0600
TZNAME:MDT
END:DAYLIGHT
BEGIN:STANDARD
DTSTART:20261101T080000
TZOFFSETFROM:-0600
TZOFFSETTO:-0700
TZNAME:MST
END:STANDARD
END:VTIMEZONE
BEGIN:VEVENT
UID:3442-events@goharlowsmccall.com
DTSTART;TZID=America/Boise:20160821T073000
DTEND;TZID=America/Boise:20160821T000000
DTSTAMP;TZID=America/Boise:20160815T085831
SUMMARY:N.Start River EXP- Mcc to HCD- 9+1- 5085+ Trailer- Jim B
URL:https://goharlowsmccall.com/events/n-start-river-exp-mcc-to-hcd-91-5085
 -trailer-1-driver/
ORGANIZER;CN=Jim:
LOCATION:Hells Canyon Dam
END:VEVENT
END:VCALENDAR