BEGIN:VCALENDAR
VERSION:2.0
PRODID:-//RIGHTHERE//CALENDARIZE IT V3.2//EN
BEGIN:VTIMEZONE
TZID:America/Boise
BEGIN:STANDARD
DTSTART:20251102T080000
TZOFFSETFROM:-0600
TZOFFSETTO:-0700
TZNAME:MST
END:STANDARD
BEGIN:DAYLIGHT
DTSTART:20260308T090000
TZOFFSETFROM:-0700
TZOFFSETTO:-0600
TZNAME:MDT
END:DAYLIGHT
BEGIN:STANDARD
DTSTART:20261101T080000
TZOFFSETFROM:-0600
TZOFFSETTO:-0700
TZNAME:MST
END:STANDARD
END:VTIMEZONE
BEGIN:VEVENT
UID:3461-events@goharlowsmccall.com
DTSTART;TZID=America/Boise:20160910T213000
DTEND;TZID=America/Boise:20160910T000000
DTSTAMP;TZID=America/Boise:20160816T082648
SUMMARY:***CANCELED***Chang/Hutt- Safe trip home- River Ranch- PAX 50-100- 
 1-2PMs
URL:https://goharlowsmccall.com/events/changhutt-safe-trip-home-river-ranch
 -pax-50-100-1-2pms/
LOCATION:McCall
END:VEVENT
END:VCALENDAR