BEGIN:VCALENDAR
VERSION:2.0
PRODID:-//RIGHTHERE//CALENDARIZE IT V3.2//EN
BEGIN:VTIMEZONE
TZID:America/Boise
BEGIN:STANDARD
DTSTART:20251102T080000
TZOFFSETFROM:-0600
TZOFFSETTO:-0700
TZNAME:MST
END:STANDARD
BEGIN:DAYLIGHT
DTSTART:20260308T090000
TZOFFSETFROM:-0700
TZOFFSETTO:-0600
TZNAME:MDT
END:DAYLIGHT
BEGIN:STANDARD
DTSTART:20261101T080000
TZOFFSETFROM:-0600
TZOFFSETTO:-0700
TZNAME:MST
END:STANDARD
END:VTIMEZONE
BEGIN:VEVENT
UID:3527-events@goharlowsmccall.com
DTSTART;TZID=America/Boise:20161012T133000
DTEND;TZID=America/Boise:20161012T000000
DTSTAMP;TZID=America/Boise:20160823T134518
SUMMARY:PLMS- Quiz Bowl- Weiser- PAX 15- Charlie#8(Christy sub)
URL:https://goharlowsmccall.com/events/plms-quiz-bowl-weiser-pax-15-1-drive
 r/
ORGANIZER;CN=Charlie:
LOCATION:PLMS - Payette Lakes Middle School
END:VEVENT
END:VCALENDAR