BEGIN:VCALENDAR
VERSION:2.0
PRODID:-//RIGHTHERE//CALENDARIZE IT V3.2//EN
BEGIN:VTIMEZONE
TZID:America/Boise
BEGIN:STANDARD
DTSTART:20251102T080000
TZOFFSETFROM:-0600
TZOFFSETTO:-0700
TZNAME:MST
END:STANDARD
BEGIN:DAYLIGHT
DTSTART:20260308T090000
TZOFFSETFROM:-0700
TZOFFSETTO:-0600
TZNAME:MDT
END:DAYLIGHT
BEGIN:STANDARD
DTSTART:20261101T080000
TZOFFSETFROM:-0600
TZOFFSETTO:-0700
TZNAME:MST
END:STANDARD
END:VTIMEZONE
BEGIN:VEVENT
UID:3531-events@goharlowsmccall.com
DTSTART;TZID=America/Boise:20170419T122500
DTEND;TZID=America/Boise:20170419T000000
DTSTAMP;TZID=America/Boise:20160823T135107
SUMMARY:PLMS- Quiz Bowl- Homedale- PAX 15- #55Charlie
URL:https://goharlowsmccall.com/events/plms-quiz-bowl-homedale-pax-15-1-dri
 ver/
ORGANIZER;CN=Charlie:
LOCATION:Homedale
END:VEVENT
END:VCALENDAR