BEGIN:VCALENDAR
VERSION:2.0
PRODID:-//RIGHTHERE//CALENDARIZE IT V3.2//EN
BEGIN:VTIMEZONE
TZID:America/Boise
BEGIN:STANDARD
DTSTART:20251102T080000
TZOFFSETFROM:-0600
TZOFFSETTO:-0700
TZNAME:MST
END:STANDARD
BEGIN:DAYLIGHT
DTSTART:20260308T090000
TZOFFSETFROM:-0700
TZOFFSETTO:-0600
TZNAME:MDT
END:DAYLIGHT
BEGIN:STANDARD
DTSTART:20261101T080000
TZOFFSETFROM:-0600
TZOFFSETTO:-0700
TZNAME:MST
END:STANDARD
END:VTIMEZONE
BEGIN:VEVENT
UID:3576-events@goharlowsmccall.com
DTSTART;TZID=America/Boise:20170117T084500
DTEND;TZID=America/Boise:20170117T000000
DTSTAMP;TZID=America/Boise:20160825T122633
SUMMARY:Roosevelt Elem. to MOSS- PAX 61- #55Charlie #54Jim
URL:https://goharlowsmccall.com/events/roosevelt-elem-to-moss-pax-6-2-buses
 /
ORGANIZER;CN=Charlie:
LOCATION:Boise
END:VEVENT
END:VCALENDAR