BEGIN:VCALENDAR
VERSION:2.0
PRODID:-//RIGHTHERE//CALENDARIZE IT V3.2//EN
BEGIN:VTIMEZONE
TZID:America/Boise
BEGIN:STANDARD
DTSTART:20251102T080000
TZOFFSETFROM:-0600
TZOFFSETTO:-0700
TZNAME:MST
END:STANDARD
BEGIN:DAYLIGHT
DTSTART:20260308T090000
TZOFFSETFROM:-0700
TZOFFSETTO:-0600
TZNAME:MDT
END:DAYLIGHT
BEGIN:STANDARD
DTSTART:20261101T080000
TZOFFSETFROM:-0600
TZOFFSETTO:-0700
TZNAME:MST
END:STANDARD
END:VTIMEZONE
BEGIN:VEVENT
UID:3578-events@goharlowsmccall.com
DTSTART;TZID=America/Boise:20170120T084500
DTEND;TZID=America/Boise:20170120T000000
DTSTAMP;TZID=America/Boise:20160826T141617
SUMMARY:Roosevelt Elem. Back to Boise- PAX 61- #54Jim & #55Charlie
URL:https://goharlowsmccall.com/events/roosevelt-elem-back-to-boise-pax-61-
 2-buses/
ORGANIZER;CN=Charlie:
LOCATION:Boise
END:VEVENT
END:VCALENDAR