BEGIN:VCALENDAR
VERSION:2.0
PRODID:-//RIGHTHERE//CALENDARIZE IT V3.2//EN
BEGIN:VTIMEZONE
TZID:America/Boise
BEGIN:STANDARD
DTSTART:20251102T080000
TZOFFSETFROM:-0600
TZOFFSETTO:-0700
TZNAME:MST
END:STANDARD
BEGIN:DAYLIGHT
DTSTART:20260308T090000
TZOFFSETFROM:-0700
TZOFFSETTO:-0600
TZNAME:MDT
END:DAYLIGHT
BEGIN:STANDARD
DTSTART:20261101T080000
TZOFFSETFROM:-0600
TZOFFSETTO:-0700
TZNAME:MST
END:STANDARD
END:VTIMEZONE
BEGIN:VEVENT
UID:3600-events@goharlowsmccall.com
DTSTART;TZID=America/Boise:20160910T103000
DTEND;TZID=America/Boise:20160910T000000
DTSTAMP;TZID=America/Boise:20160829T070412
SUMMARY:ID Conservation League- to Weiser River Trail- Jim B.\, #4225\, PAX
 20
URL:https://goharlowsmccall.com/events/id-conservation-league-to-weiser-riv
 er-trail-pax-20/
ORGANIZER;CN=Jim:
END:VEVENT
END:VCALENDAR