BEGIN:VCALENDAR
VERSION:2.0
PRODID:-//RIGHTHERE//CALENDARIZE IT V3.2//EN
BEGIN:VTIMEZONE
TZID:America/Boise
BEGIN:STANDARD
DTSTART:20251102T080000
TZOFFSETFROM:-0600
TZOFFSETTO:-0700
TZNAME:MST
END:STANDARD
BEGIN:DAYLIGHT
DTSTART:20260308T090000
TZOFFSETFROM:-0700
TZOFFSETTO:-0600
TZNAME:MDT
END:DAYLIGHT
BEGIN:STANDARD
DTSTART:20261101T080000
TZOFFSETFROM:-0600
TZOFFSETTO:-0700
TZNAME:MST
END:STANDARD
END:VTIMEZONE
BEGIN:VEVENT
UID:3706-events@goharlowsmccall.com
DTSTART;TZID=America/Boise:20170527T153000
DTEND;TZID=America/Boise:20170527T220000
DTSTAMP;TZID=America/Boise:20160908T103631
SUMMARY:Keller/Perkins Wedding @ Shore Lodge- PAX28- #4225Jeff
URL:https://goharlowsmccall.com/events/kellerperkins-wedding-shore-lodge-pa
 x-1pm/
ORGANIZER;CN=Jeff:
END:VEVENT
END:VCALENDAR