BEGIN:VCALENDAR
VERSION:2.0
PRODID:-//RIGHTHERE//CALENDARIZE IT V3.2//EN
BEGIN:VTIMEZONE
TZID:America/Boise
BEGIN:STANDARD
DTSTART:20251102T080000
TZOFFSETFROM:-0600
TZOFFSETTO:-0700
TZNAME:MST
END:STANDARD
BEGIN:DAYLIGHT
DTSTART:20260308T090000
TZOFFSETFROM:-0700
TZOFFSETTO:-0600
TZNAME:MDT
END:DAYLIGHT
BEGIN:STANDARD
DTSTART:20261101T080000
TZOFFSETFROM:-0600
TZOFFSETTO:-0700
TZNAME:MST
END:STANDARD
END:VTIMEZONE
BEGIN:VEVENT
UID:3709-events@goharlowsmccall.com
DTSTART;TZID=America/Boise:20161008T130000
DTEND;TZID=America/Boise:20161008T000000
DTSTAMP;TZID=America/Boise:20160908T134856
SUMMARY:Binkley & Balog Wedding- No Business Lodge- PAX 100- Brandi #8 -2 B
 uses
URL:https://goharlowsmccall.com/events/madi-meiler-wedding-no-business-lodg
 e-pax-100-1-2-buses/
END:VEVENT
END:VCALENDAR