BEGIN:VCALENDAR
VERSION:2.0
PRODID:-//RIGHTHERE//CALENDARIZE IT V3.2//EN
BEGIN:VTIMEZONE
TZID:America/Boise
BEGIN:STANDARD
DTSTART:20251102T080000
TZOFFSETFROM:-0600
TZOFFSETTO:-0700
TZNAME:MST
END:STANDARD
BEGIN:DAYLIGHT
DTSTART:20260308T090000
TZOFFSETFROM:-0700
TZOFFSETTO:-0600
TZNAME:MDT
END:DAYLIGHT
BEGIN:STANDARD
DTSTART:20261101T080000
TZOFFSETFROM:-0600
TZOFFSETTO:-0700
TZNAME:MST
END:STANDARD
END:VTIMEZONE
BEGIN:VEVENT
UID:3749-events@goharlowsmccall.com
DTSTART;TZID=America/Boise:20160930T084500
DTEND;TZID=America/Boise:20160930T105500
DTSTAMP;TZID=America/Boise:20160914T120422
SUMMARY:BRMES- Fire Dept.- PAX 63+4-Nancy #1
URL:https://goharlowsmccall.com/events/brmes-fire-dept-pax-634-1bus/
ORGANIZER;CN=Nancy:
LOCATION:BRMES
END:VEVENT
END:VCALENDAR