BEGIN:VCALENDAR
VERSION:2.0
PRODID:-//RIGHTHERE//CALENDARIZE IT V3.2//EN
BEGIN:VTIMEZONE
TZID:America/Boise
BEGIN:STANDARD
DTSTART:20251102T080000
TZOFFSETFROM:-0600
TZOFFSETTO:-0700
TZNAME:MST
END:STANDARD
BEGIN:DAYLIGHT
DTSTART:20260308T090000
TZOFFSETFROM:-0700
TZOFFSETTO:-0600
TZNAME:MDT
END:DAYLIGHT
BEGIN:STANDARD
DTSTART:20261101T080000
TZOFFSETFROM:-0600
TZOFFSETTO:-0700
TZNAME:MST
END:STANDARD
END:VTIMEZONE
BEGIN:VEVENT
UID:4218-events@goharlowsmccall.com
DTSTART;TZID=America/Boise:20170703T143000
DTEND;TZID=America/Boise:20170703T000000
DTSTAMP;TZID=America/Boise:20161230T105320
SUMMARY:MOM- MCC/BOI – 7PAX – #4967Charlie
URL:https://goharlowsmccall.com/events/mom-mccboi-pax-6-4967/
ORGANIZER;CN=Charlie:
LOCATION:Boise
END:VEVENT
END:VCALENDAR